BEGIN:VCALENDAR
VERSION:2.0
PRODID:-//Plone.org//NONSGML plone.app.event//EN
X-WR-TIMEZONE:Europe/Vienna
BEGIN:VEVENT
SUMMARY:Design-Talk mit Stefan Diez
DTSTART;TZID=Europe/Vienna;VALUE=DATE-TIME:20260508T190000
DTSTAMP;VALUE=DATE-TIME:20260423T213841Z
UID:e9a50acb0110433c85233f5852afa061@aaf-live-raw.web.kup.tirol
CREATED;VALUE=DATE-TIME:20260422T115900Z
GEO:47.372809642943956;9.679726773014515
LAST-MODIFIED;VALUE=DATE-TIME:20260422T120341Z
LOCATION;ALTREP="https://v-a-i.at/lib/adressbuch/casa-moebel":CASA Möbel\
 , Schweizer Straße 77\, 6845 Hohenems\, Österreich
URL:https://v-a-i.at/veranstaltungen/kalender/design-talk-mit-stefan-diez-
 bei-casa-moebel
END:VEVENT
BEGIN:VTIMEZONE
TZID:Europe/Vienna
X-LIC-LOCATION:Europe/Vienna
BEGIN:DAYLIGHT
DTSTART;VALUE=DATE-TIME:20260329T030000
TZNAME:CEST
TZOFFSETFROM:+0100
TZOFFSETTO:+0200
END:DAYLIGHT
END:VTIMEZONE
END:VCALENDAR
