BEGIN:VCALENDAR
VERSION:2.0
PRODID:-//Plone.org//NONSGML plone.app.event//EN
X-WR-TIMEZONE:Europe/Vienna
BEGIN:VEVENT
SUMMARY:CASA Möbel Partnertag 2026
DTSTART;TZID=Europe/Vienna:20260508T143000
DTEND;TZID=Europe/Vienna:20260508T200000
DTSTAMP:20260420T170812Z
UID:b86716799ecd4b14be38e1048c3b3cf1@v-a-i.at
CATEGORIES:Aktuelles,Aktuelles 
CREATED:20230420T075819Z
DESCRIPTION:Halbtages-Exkursion nach Bregenz\, begleitet von Verena Konrad
GEO:47.372809642943956;9.679726773014515
LAST-MODIFIED:20260420T070704Z
LOCATION;ALTREP="https://v-a-i.at/lib/adressbuch/casa-moebel":CASA Möbel\
 , Schweizer Straße 77\, 6845 Hohenems\, Austria
URL:https://v-a-i.at/aktuelles/casa-partnertag26
END:VEVENT
BEGIN:VTIMEZONE
TZID:Europe/Vienna
X-LIC-LOCATION:Europe/Vienna
BEGIN:DAYLIGHT
DTSTART:20260329T030000
TZNAME:CEST
TZOFFSETFROM:+0100
TZOFFSETTO:+0200
END:DAYLIGHT
END:VTIMEZONE
END:VCALENDAR
